BEGIN:VCALENDAR
VERSION:2.0
PRODID:-//Psyche Centre - ECPv6.15.20//NONSGML v1.0//EN
CALSCALE:GREGORIAN
METHOD:PUBLISH
X-ORIGINAL-URL:https://www.thepsychecentre.com
X-WR-CALDESC:Events for Psyche Centre
REFRESH-INTERVAL;VALUE=DURATION:PT1H
X-Robots-Tag:noindex
X-PUBLISHED-TTL:PT1H
BEGIN:VTIMEZONE
TZID:Europe/London
BEGIN:DAYLIGHT
TZOFFSETFROM:+0000
TZOFFSETTO:+0100
TZNAME:BST
DTSTART:20230326T010000
END:DAYLIGHT
BEGIN:STANDARD
TZOFFSETFROM:+0100
TZOFFSETTO:+0000
TZNAME:GMT
DTSTART:20231029T010000
END:STANDARD
BEGIN:DAYLIGHT
TZOFFSETFROM:+0000
TZOFFSETTO:+0100
TZNAME:BST
DTSTART:20240331T010000
END:DAYLIGHT
BEGIN:STANDARD
TZOFFSETFROM:+0100
TZOFFSETTO:+0000
TZNAME:GMT
DTSTART:20241027T010000
END:STANDARD
BEGIN:DAYLIGHT
TZOFFSETFROM:+0000
TZOFFSETTO:+0100
TZNAME:BST
DTSTART:20250330T010000
END:DAYLIGHT
BEGIN:STANDARD
TZOFFSETFROM:+0100
TZOFFSETTO:+0000
TZNAME:GMT
DTSTART:20251026T010000
END:STANDARD
END:VTIMEZONE
BEGIN:VTIMEZONE
TZID:UTC
BEGIN:STANDARD
TZOFFSETFROM:+0000
TZOFFSETTO:+0000
TZNAME:UTC
DTSTART:20230101T000000
END:STANDARD
END:VTIMEZONE
BEGIN:VEVENT
DTSTART;TZID=Europe/London:20240802T190000
DTEND;TZID=Europe/London:20240802T200000
DTSTAMP:20260424T050443
CREATED:20240530T115733Z
LAST-MODIFIED:20240530T120220Z
UID:2952-1722625200-1722628800@www.thepsychecentre.com
SUMMARY:The Confident Trance Medium
DESCRIPTION:Step into your power with Martin Colclough’s empowering talk\, “The Confidence Trance Medium\,” on August 2nd at 7pm.  Join us for an inspiring evening as Martin shares insights and techniques to break free from self-doubt and step into a state of unwavering confidence. Discover how to overcome limiting beliefs\, tap into your inner strength\, and radiate confidence in Trance Mediumship.  This transformative talk serves as a prelude to Martin’s upcoming workshop on August 30th. \n  \nBook Now
URL:https://www.thepsychecentre.com/event/the-confident-trance-medium-2/
LOCATION:Online
CATEGORIES:Captivating Talks,Mediumship
ATTACH;FMTTYPE=image/jpeg:https://www.thepsychecentre.com/wp-content/uploads/2024/05/Psyche-Centre-Events-Trance-Medioumship.jpg
END:VEVENT
BEGIN:VEVENT
DTSTART;TZID=UTC:20240730T190000
DTEND;TZID=UTC:20240730T200000
DTSTAMP:20260424T050443
CREATED:20240430T190018Z
LAST-MODIFIED:20240501T131016Z
UID:2885-1722366000-1722369600@www.thepsychecentre.com
SUMMARY:Mind 2 Mind
DESCRIPTION:Dive into the depths of mind-to-mind connection with Tracey Matthewman’s captivating group exercise on July 30th at 7pm.  Join us for an extraordinary evening of exploration as we delve into the fascinating realm of mind 2 mind communication. Through interactive exercises\, Tracey will lead you on a journey to unlock the hidden potential of your mind. \n\nBook Now
URL:https://www.thepsychecentre.com/event/mind-2-mind/
LOCATION:Online
CATEGORIES:Group Exercises
ATTACH;FMTTYPE=image/webp:https://www.thepsychecentre.com/wp-content/uploads/2024/04/mind-to-mind-exp-july-24.webp
END:VEVENT
BEGIN:VEVENT
DTSTART;TZID=UTC:20240726T190000
DTEND;TZID=UTC:20240726T200000
DTSTAMP:20260424T050443
CREATED:20240426T190033Z
LAST-MODIFIED:20240501T131401Z
UID:2879-1722020400-1722024000@www.thepsychecentre.com
SUMMARY:Accelerated Connection Focus on Energy
DESCRIPTION:Unlock the power of accelerated connection in Martin Colclough’s transformative workshop on July 26th at 7pm.  Join us for an illuminating exploration of energy and its profound impact when used for mediumship. In this dynamic session\, Martin will guide you through practical techniques and insights to deepen your connection to spirit world in an accelerated connection.  Discover how to amplify your intuitive abilities and mediumship at a rapid rate.  Through experiential exercises and thought-provoking discussions\, you’ll learn to harness the inherent power within you to create positive change within your connection to Psychic and Mediumship abilities. \n\nBook Now
URL:https://www.thepsychecentre.com/event/accelerated-connection-focus-on-energy/
LOCATION:Online
CATEGORIES:Workshops
ATTACH;FMTTYPE=image/webp:https://www.thepsychecentre.com/wp-content/uploads/2024/04/Martin-workshop-energy-july24.webp
END:VEVENT
BEGIN:VEVENT
DTSTART;TZID=UTC:20240717T190000
DTEND;TZID=UTC:20240717T203000
DTSTAMP:20260424T050443
CREATED:20240501T212415Z
LAST-MODIFIED:20240501T212531Z
UID:2941-1721242800-1721248200@www.thepsychecentre.com
SUMMARY:Open Circle Bootcamp
DESCRIPTION:Step into empowerment with our Open Circle Bootcamp event featuring a mini teaching session on attunement and power building\, guided by Tracey Matthewman. Join us on June 11th at 7 pm to embark on a transformative journey toward psychic mediumship. Don’t miss this opportunity to strengthen your skills and unlock your full potential! \n\nBook Now
URL:https://www.thepsychecentre.com/event/open-circle-bootcamp-3/
LOCATION:https://the-psyche-centre.circle.so/c/the-psyche-centre/open-circle-bootcamp
CATEGORIES:Open Circle
ATTACH;FMTTYPE=image/png:https://www.thepsychecentre.com/wp-content/uploads/2024/04/open-circle.png
END:VEVENT
BEGIN:VEVENT
DTSTART;TZID=UTC:20240711T190000
DTEND;TZID=UTC:20240711T200000
DTSTAMP:20260424T050443
CREATED:20240411T190023Z
LAST-MODIFIED:20240501T133526Z
UID:2874-1720724400-1720728000@www.thepsychecentre.com
SUMMARY:Meditation Breath Awareness
DESCRIPTION:Join Sarah Wray for a serene meditation experience on July 11th at 7pm\, centered on breath awareness. Immerse yourself in a tranquil journey as Sarah guides you to deepen your connection with the present moment through mindful breathing. In this soothing session\, you’ll learn to cultivate inner peace\, calm the mind\, and awaken to the power of your breath as a gateway to profound relaxation and clarity. \n\nBook Now
URL:https://www.thepsychecentre.com/event/meditation-breath-awareness/
LOCATION:Online
CATEGORIES:Meditation
ATTACH;FMTTYPE=image/png:https://www.thepsychecentre.com/wp-content/uploads/2024/04/Breath-awareness-meditation-Sarah-Wray-July24.png
END:VEVENT
BEGIN:VEVENT
DTSTART;TZID=UTC:20240705T190000
DTEND;TZID=UTC:20240705T200000
DTSTAMP:20260424T050443
CREATED:20240430T190057Z
LAST-MODIFIED:20240501T131541Z
UID:2871-1720206000-1720209600@www.thepsychecentre.com
SUMMARY:Energy Forge; Building the Power Within
DESCRIPTION:Join Martin Colclough on July 5th at 7pm for an empowering talk on “Energy Forge: Building the Power Within.” Discover the transformative potential within yourself as Martin shares insights and techniques for harnessing and cultivating your inner energy. In this dynamic discussion\, you’ll learn how to tap into your innate power\, channeling it to gain a stronger communication with spirit.  Join us for a follow up workshop on the 26th July at 7pm. \n\nBook Now
URL:https://www.thepsychecentre.com/event/energy-forge-building-the-power-within/
LOCATION:Online
CATEGORIES:Captivating Talks
ATTACH;FMTTYPE=image/webp:https://www.thepsychecentre.com/wp-content/uploads/2024/04/Focus-on-energy-Martin-Talk-july24.webp
END:VEVENT
BEGIN:VEVENT
DTSTART;TZID=UTC:20240629T190000
DTEND;TZID=UTC:20240629T200000
DTSTAMP:20260424T050443
CREATED:20240429T190021Z
LAST-MODIFIED:20240501T131845Z
UID:2867-1719687600-1719691200@www.thepsychecentre.com
SUMMARY:Psychometry group exercise
DESCRIPTION:Dive into the mystical world of psychometry with Tracey Matthewman! Join us on June 29th at 7pm for a captivating group exercise that will unravel the secrets held within everyday objects.  Experience the fascinating phenomenon of psychometry as Tracey guides us through an evening of exploration and connection.  Together\, we’ll embark on a journey of discovery\, tapping into the energy of an object. Through guided exercises and shared insights\, you’ll uncover the profound connections between the physical and spirit worlds. \n\nBook Now
URL:https://www.thepsychecentre.com/event/psychometry-group-exercise/
LOCATION:Online
CATEGORIES:Group Exercises
ATTACH;FMTTYPE=image/webp:https://www.thepsychecentre.com/wp-content/uploads/2024/04/PSYCHOMETRY-june24.webp
END:VEVENT
BEGIN:VEVENT
DTSTART;TZID=UTC:20240621T190000
DTEND;TZID=UTC:20240621T200000
DTSTAMP:20260424T050443
CREATED:20240501T151324Z
LAST-MODIFIED:20240501T211402Z
UID:2861-1718996400-1719000000@www.thepsychecentre.com
SUMMARY:Evidence from the Senses
DESCRIPTION:Dive into the mysteries of psychic mediumship with Martin Colclough’s workshop\, “Evidence from the Senses\,” on June 21st at 7pm. Explore the subtle connections between our senses and the spirit world connection through interactive exercises and insightful discussions. Whether you’re a seasoned practitioner or a curious novice\, join us for an unforgettable journey of discovery and connection. \n\nBook Now
URL:https://www.thepsychecentre.com/event/evidence-from-the-senses/
LOCATION:Online
CATEGORIES:Workshops
ATTACH;FMTTYPE=image/webp:https://www.thepsychecentre.com/wp-content/uploads/2024/04/Martin-workshop-june24-senses.webp
END:VEVENT
BEGIN:VEVENT
DTSTART;TZID=UTC:20240613T190000
DTEND;TZID=UTC:20240613T200000
DTSTAMP:20260424T050443
CREATED:20240413T190005Z
LAST-MODIFIED:20240501T132813Z
UID:2857-1718305200-1718308800@www.thepsychecentre.com
SUMMARY:Mental Well-being Talk
DESCRIPTION:Join us for an empowering discussion on mental wellbeing with the wonderful Sarah Wray! Dive into a conversation about nurturing your own mental health and wellbeing on June 13th at 7pm. Discover practical tips and insights to support your journey towards holistic wellness. Don’t miss out on this opportunity to prioritize your mental wellbeing and cultivate a healthier\, happier life! \n\nBook Now
URL:https://www.thepsychecentre.com/event/mental-well-being-talk/
LOCATION:https://the-psyche-centre.circle.so/c/the-psyche-centre/mental-well-being-talk
CATEGORIES:Mental Well-being
ATTACH;FMTTYPE=image/png:https://www.thepsychecentre.com/wp-content/uploads/2024/04/Sarah-wellness-talk-June24.png
END:VEVENT
BEGIN:VEVENT
DTSTART;TZID=UTC:20240611T190000
DTEND;TZID=UTC:20240611T203000
DTSTAMP:20260424T050443
CREATED:20240427T122024Z
LAST-MODIFIED:20240501T140708Z
UID:2839-1718132400-1718137800@www.thepsychecentre.com
SUMMARY:Open Circle Bootcamp
DESCRIPTION:Step into empowerment with our Open Circle Bootcamp event featuring a mini teaching session on attunement and power building\, guided by Tracey Matthewman. Join us on June 11th at 7 pm to embark on a transformative journey toward psychic mediumship. Don’t miss this opportunity to strengthen your skills and unlock your full potential! \n\nBook Now
URL:https://www.thepsychecentre.com/event/open-circle-bootcamp/
LOCATION:https://the-psyche-centre.circle.so/c/the-psyche-centre/open-circle-bootcamp
CATEGORIES:Open Circle
ATTACH;FMTTYPE=image/png:https://www.thepsychecentre.com/wp-content/uploads/2024/04/open-circle.png
END:VEVENT
BEGIN:VEVENT
DTSTART;TZID=UTC:20240607T190000
DTEND;TZID=UTC:20240607T200000
DTSTAMP:20260424T050443
CREATED:20240407T190013Z
LAST-MODIFIED:20240501T132315Z
UID:2851-1717786800-1717790400@www.thepsychecentre.com
SUMMARY:Maximizing the Senses
DESCRIPTION:Dive into the extraordinary world of psychic mediumship with Martin Colclough’s captivating talk\, “Maximizing the Senses.” Join us on June 7th at 7 pm as Martin unveils the secrets of harnessing your senses for heightened intuition and connection. Plus\, mark your calendar for our follow-up workshop on June 21st. Don’t miss this chance to expand your awareness and embrace the full potential of your psychic abilities \n\nBook Now
URL:https://www.thepsychecentre.com/event/maximizing-the-senses/
LOCATION:https://the-psyche-centre.circle.so/c/the-psyche-centre/maximising-the-senses
CATEGORIES:Captivating Talks
ATTACH;FMTTYPE=image/png:https://www.thepsychecentre.com/wp-content/uploads/2024/04/Max-senses-Talk-june24.png
END:VEVENT
BEGIN:VEVENT
DTSTART;TZID=UTC:20240524T190000
DTEND;TZID=UTC:20240524T200000
DTSTAMP:20260424T050443
CREATED:20240402T190032Z
LAST-MODIFIED:20240501T132456Z
UID:2846-1716577200-1716580800@www.thepsychecentre.com
SUMMARY:The Confident Medium
DESCRIPTION:Step into your confidence and clarity with “The Confident Medium” event led by the knowledgeable Martin Colclough. Join us on May 24th at 7pm for an enlightening exploration of the distinctions between psychic and mediumship skills. Discover how to hone your abilities and embrace your unique gifts in a supportive and empowering environment. Don’t miss this opportunity to deepen your understanding and confidence on your spiritual journey! \n\nBook Now
URL:https://www.thepsychecentre.com/event/the-confident-medium/
LOCATION:https://the-psyche-centre.circle.so/c/the-psyche-centre/the-confident-medium
CATEGORIES:Workshops
ATTACH;FMTTYPE=image/png:https://www.thepsychecentre.com/wp-content/uploads/2024/04/Martin-workshop-may24-confident-medium.png
END:VEVENT
BEGIN:VEVENT
DTSTART;TZID=UTC:20240515T190000
DTEND;TZID=UTC:20240515T203000
DTSTAMP:20260424T050443
CREATED:20240415T190031Z
LAST-MODIFIED:20240501T132032Z
UID:2880-1715799600-1715805000@www.thepsychecentre.com
SUMMARY:Open Circle Bootcamp
DESCRIPTION:Step into empowerment with our Open Circle Bootcamp event featuring a mini teaching session on attunement and power building\, guided by Tracey Matthewman. Join us on May 15th at 7 pm to embark on a transformative journey toward psychic mediumship. Don’t miss this opportunity to strengthen your skills and unlock your full potential! \n\nBook Now
URL:https://www.thepsychecentre.com/event/open-circle-bootcamp-2/
LOCATION:https://the-psyche-centre.circle.so/c/the-psyche-centre/open-circle-bootcamp
CATEGORIES:Open Circle
ATTACH;FMTTYPE=image/png:https://www.thepsychecentre.com/wp-content/uploads/2024/04/open-circle.png
END:VEVENT
BEGIN:VEVENT
DTSTART;TZID=UTC:20240507T190000
DTEND;TZID=UTC:20240507T200000
DTSTAMP:20260424T050443
CREATED:20240407T190027Z
LAST-MODIFIED:20240501T133945Z
UID:2832-1715108400-1715112000@www.thepsychecentre.com
SUMMARY:Self Love Meditation
DESCRIPTION:Join us for a soul-nourishing meditation session led by the wonderful Sarah Wray\, centred around the theme of self-love. Take a moment to prioritize yourself and cultivate a deeper sense of love and compassion within. Join Sarah on May 7th at 7pm for an evening of relaxation\, reflection\, and self-care. \n\nBook Now
URL:https://www.thepsychecentre.com/event/self-love-meditation/
LOCATION:https://the-psyche-centre.circle.so/
CATEGORIES:Meditation
ATTACH;FMTTYPE=image/png:https://www.thepsychecentre.com/wp-content/uploads/2024/04/Self-Love-Meditation-sarah-May-24.png
END:VEVENT
BEGIN:VEVENT
DTSTART;TZID=UTC:20240503T190000
DTEND;TZID=UTC:20240503T200000
DTSTAMP:20260424T050443
CREATED:20240403T190043Z
LAST-MODIFIED:20240501T134553Z
UID:2826-1714762800-1714766400@www.thepsychecentre.com
SUMMARY:What is a Psychic Medium
DESCRIPTION:Explore the fascinating differences between psychics and mediums as Martin shares his wisdom and insights. Join us on May 3rd at 7 pm for an illuminating discussion. And mark your calendars for our follow-up workshop on May 24th at 7 pm\, where you can deepen your understanding of this intriguing topic. \n\nBook Now
URL:https://www.thepsychecentre.com/event/what-is-a-psychic-medium/
LOCATION:https://the-psyche-centre.circle.so/
CATEGORIES:Captivating Talks
ATTACH;FMTTYPE=image/png:https://www.thepsychecentre.com/wp-content/uploads/2024/04/what-is-a-medium-Talk-Martin-may24.png
END:VEVENT
END:VCALENDAR